Workbook
Name MSTR.DE_Fondsstammdaten_auf_Tranchenbasis: Stammdaten!$A$1:$AR$765
Name MSTR.DE_Vertriebszulassungen_alle_Fonds_gewünschtes_Land: #REF!
Name MSTR.DE_Vertriebszulassungen_alle_Fonds_gewünschtes_Land: #REF!
Name MSTR.ML_Vertriebszulassungen__Fondsauswahl__Landauswahl_: #REF!
Name MSTR.ML_Vertriebszulassungen__Fondsauswahl__Landauswahl_: 'ML_Vertriebszulassungen (Fon...'!$A$1:$M$208

Sheet Mozart Reports
A1: 2 | B1: 06a1599ff0674ba3baa39a49bc61495a
A2: <mi app="e" ver="22"><rptloc guid="0472236aadf84d518d1978f3f84ae95f" rank="0" ds="1"><ri hasPG="0" name="ML_Sales authorization (select fund and country)" id="24B8006649039079A5AEDF9A2E08B3E2" path="Public Objects\Reports\Zulassung\ML_Sales authorization (select fund and country)" cf="0" prompt="1" ve="0" vm="0" flashpth="C:\Users\WKABAR\AppData\Local\Temp\1\" fimagepth="C:\Users\WKABAR\AppData\Local\Temp\1\" swfn="DashboardViewer.swf" fvars="" dvis=""><ans /><ci ps="001 RCM Reporting" srv="svumstr01p.at.rcm.rbg.cc" prj="001 RCM Reporting" prjid="7A65503545C9B91DE5D037896D921FD8" li="rifa" am="s" /><lu ut="09/30/2025 09:21:22" si="2.00000001f5626c73bc3ef5776b26ec375731a1ade3b25014ff18ee2f189cc5560a1cd100cc5ec935bb40b2b822b149bcf6a852d353712a6b6899ac499ab76090df4245a073fae137ddec383e4e40258d9606dff7043bcd1f5d4a26f2ea09c974a4d8bab779aa4e83b4b6a4ae417d275dcaee6518f5029054b10853ebb0b6a7b945d8724873f64f88a31a523fcea9ce5b1af6194b12098c799f3f457f84468895613e55de5ffea2523bca92405f0ffcb886c1a8bff4bc321f0818cec9e07c25558ae30e2cbff2ee6127e071f7744b2dddb671a220f4e766bd190566f8bdc666097dd6967e4051c39d8b1146eb59417ac4d9d34e326809eb9253acace40ffea7c12e09f088dca58ab865fa9a11da452b2520fe6e57588dfa097cf81efe566a65c05871ae33c9d2a824859819c003704acb862cd55e687c90bb1e13dd17eea09158d1fc33e2b72d.p.1031.0.1.Etc/UTC.upriv*_1*_pidn2*_2*_session*-lat*_1.0000000131e2891c3caab098bfab6cb558ccec9e3286114b39d1ca7e1bb6ac121443950a7e71af515b0b4f4736e5fd43.00000001c0f8e808171d09c9dd0dfda4749a38e7d9b317a854176008c6a2229b1529eec959f2d2c7a23f66d02b913e604f6301c455143bfe.0.1.1.001 RCM Reporting.7A65503545C9B91DE5D037896D921FD8.0-1033.1.1_-1033.1.1_-1033.1.1_5.5.0.*0.0000000121164be09b1d3f4d200c1b69a20af693c911585a61b2e26459b25b1aeccfd1cbdd1b4100.0.23.11*.3*.0860*.00457J.e.000000018f275f0af1d3997a01b03a90171c6a1ac911585acb5dbdb9d26e2ae5bb434b92088d5716.0.10*.88*.0*.1.0.0.0" msgID="986BD62445086376748D37B48EC79726" /></ri><do pa="6" cfmt="0" fmt="1" saf="0" hd="0" afg="1" rafg="1" arh="1" gosdo="0" cwd="1" ab="0" af="1" om="0" ag="0" lck="0" ppt="3" wpt="3" dai="0" rscd="1" rsrgb="1" rsrl="1" cit="2" c2d="1" cdf="0" cdt="0" dtlk="1" gaf="17" fqg="0" xqg="0" don="0" dcom="0" oaw="0" tws="0" ssm="1" ssn="MSTRStyle.All" glo="11101" pgsel="4" phdr="1" rdc="0" adt="0" rsoox="0" eco="1" ecfw="400" ecfh="300" ecfsu="1" ecwr="100" echr="100" eclar="1" ecrups="1"><details dbit="11169976358211" dsel="239" /></do><excel><epo ews="ML_Vertriebszulassungen (Fon..." ece="A1" enr="MSTR.ML_Vertriebszulassungen__Fondsauswahl__Landauswahl_" ptn="" qtn="" rows="208" cols="13" /><esdo ews="" ece="" ptn="" /></excel><pgs><pg rows="207" cols="0" nrr="2311" nrc="0"><pg /><bls><bl sr="1" sc="1" rfetch="207" cfetch="0" posid="1" darows="0" dacols="1"><excel><epo ews="ML_Vertriebszulassungen (Fon..." ece="A1" enr="MSTR.ML_Vertriebszulassungen__Fondsauswahl__Landauswahl_" ptn="" qtn="" rows="208" cols="13" /><esdo ews="" ece="" ptn="" /></excel><gridRng><sect id="TITLE_AREA" rngprop="1:1:1:13" /><sect id="ROWHEADERS_AREA" rngprop="2:1:207:13" /><sect id="COLUMNHEADERS_AREA" rngprop="0:0:0:0" /><sect id="DATA_AREA" rngprop="2:14:207:0" /></gridRng><shapes /></bl></bls></pg></pgs></rptloc></mi>
A3: <mi app="e" ver="22"><rptloc guid="a8ba2e2f21bb4e05bdf306cd5b5c876a" rank="0" ds="1"><ri hasPG="0" name="DE_Fondsstammdaten auf Tranchenbasis" id="0175484249314D502CF403A243FB3FF3" path="Öffentliche Objekte\Berichte\Stammdaten\DE_Fondsstammdaten auf Tranchenbasis" cf="0" prompt="1" ve="0" vm="0" flashpth="C:\Users\WKABAR\AppData\Local\Temp\1\" fimagepth="C:\Users\WKABAR\AppData\Local\Temp\1\" swfn="DashboardViewer.swf" fvars="" dvis=""><ans /><ci ps="001 RCM Reporting" srv="svumstr02p.at.rcm.rbg.cc" prj="001 RCM Reporting" prjid="7A65503545C9B91DE5D037896D921FD8" li="rifa" am="s" /><lu ut="08/13/2025 13:24:13" si="2.00000001f2032090368ad0526edc778c20a4376c5d0a16ad9e79ce1f19c6a3d379b9b4c7abc818a4fa552b8d458cee85e811038434f8431d247da55f492e185025b9ee3e9521ae9518e2a4f971e96e14057df4a67eb31938b45f562455dc16ac1348e9b7121b468a2211b833492257ac7b9fa271d2da4136a69b33c6122bbfc1951bfe73b9b3b749ff9158a13dfab0e22cedad876114d635e2c4e42b26b72bd4d9790b8ecd9cc6703c1c1bbd33393a1883092677b04b2ab89f5b9a0c16aaef6d28321886898a6400fe8cc66ab60b868ddd789d0ee0d6d3e7b84d0b76b32a9f4bd515793f7999627c12c15241cd55bfb2edbdc035d8f5922fbd6023420c205bcb96a3bbcc6c355b8f55712f59e35ab871fdc4e77921fbb59fa7b2d43ae6b4987f9d1d2474092ff1c5c0496b16e87db41eb501e1f6f621e1558abe525aa033fc2d99158a55a18b.p.1031.0.1.Etc/UTC.upriv*_1*_pidn2*_3*_session*-lat*_1.000000011cc23ad07b664b3a16bf5ebdd25fc9ac3286114b0910dc87f51c11a8f1d09f2fc9c0e1ecda7ef20da0818184.00000001a84f1cff731c0cca0707d6ced7e5a124d9b317a8a85389a81afadfbfddadc5f6dbf0aa63ab1542c1c54d403b414263c8444197c0.0.1.1.001 RCM Reporting.7A65503545C9B91DE5D037896D921FD8.0-1031.1.1_-1031.1.1_-1031.1.1_5.5.0.*0.00000001171f481d3c5da7bb022aaa0f60fcb171c911585ab1ed3d739dcd8c3333f41351f4cb87c4.0.23.11*.3*.0860*.00457J.e.0000000185f8c02b0aa81f1bb63ccd41585b8b3bc911585af379bcb59fee187e9d7cc1ff91238526.0.10*.88*.0*.1.0.0.0" msgID="58A7A1F7441A1BD1213693A43732A0DF" /></ri><do pa="6" cfmt="0" fmt="1" saf="0" hd="0" afg="1" rafg="1" arh="1" gosdo="0" cwd="1" ab="0" af="1" om="0" ag="0" lck="0" ppt="3" wpt="3" dai="0" rscd="1" rsrgb="1" rsrl="1" cit="2" c2d="1" cdf="0" cdt="0" dtlk="1" gaf="17" fqg="0" xqg="0" don="0" dcom="0" oaw="0" tws="0" ssm="1" ssn="MSTRStyle.All" glo="11101" pgsel="4" phdr="1" rdc="0" adt="0" rsoox="0" eco="1" ecfw="400" ecfh="300" ecfsu="1" ecwr="100" echr="100" eclar="1" ecrups="1"><details dbit="11169976358211" dsel="239" /></do><pgs><pg rows="764" cols="0" nrr="764" nrc="0"><pg /><bls><bl sr="1" sc="1" rfetch="764" cfetch="0" posid="1" darows="0" dacols="1"><excel><epo ews="Stammdaten" ece="A1" enr="MSTR.DE_Fondsstammdaten_auf_Tranchenbasis" ptn="" qtn="" rows="765" cols="44" /><esdo ews="" ece="" ptn="" /></excel><gridRng><sect id="TITLE_AREA" rngprop="1:1:1:44" /><sect id="ROWHEADERS_AREA" rngprop="2:1:764:44" /><sect id="COLUMNHEADERS_AREA" rngprop="0:0:0:0" /><sect id="DATA_AREA" rngprop="2:45:764:0" /></gridRng><shapes /></bl></bls></pg></pgs></rptloc></mi>

Sheet doc legali
A1: ISIN | C1: PB/scheda prodotto italiano | D1: PB/scheda prodotto tedesco | E1: PROS / prospetto inglese | F1: BIB (PRIIPS-KID)
A2: AT0000A21LL5 | B2: CONVERTINVEST All Cap Investment Grade (R) VTA | C2: https://www.rcm.at/cs/rcm/DokumentDownload/CONVERTINVEST%20All-Cap%20Convertibles%20Fund?dokument&enc=2cdJN80HkWFFTDkOtRJ0D%2FLRua0pWB%2BXt1xmoPP7SicMYyXYMglT6o4Tdp0cANdIZt9BubfPsvTi%0A%2FosVDveIYqrlyb3ILise | D2: https://www.rcm.at/cs/rcm/DokumentDownload/CONVERTINVEST%20All-Cap%20Convertibles%20Fund?dokument&enc=2cdJN80HkWFFTDkOtRJ0D%2FLRua0pWB%2BXt1xmoPP7SicMYyXYMglT6o4Tdp0cANdIZt9BubfPsvTi%0A%2FosVDveIYpfQH5wD1mFkYcL25lQMm00h71SQK9bIhg%3D%3D | E2: https://www.rcm.at/cs/rcm/DokumentDownload/CONVERTINVEST%20All-Cap%20Convertibles%20Fund?dokument&enc=2cdJN80HkWFScNSGtZEvaQ6nM6b4fUJCIDp%2Fsf11%2FoNOfO%2FmA1%2F23sMc0JzmVOJC2ARpFPZqQ%2Fqm%0A5kiwMKoehQ%3D%3D | F2: https://www.rcm.at/cs/rcm/DokumentDownload/CONVERTINVEST%20All-Cap%20Convertibles%20Fund?dokument&enc=2cdJN80HkWGmoK7teCwcRkVsaQ%2FgIiB5OnmJbV2UowngPOrQkNCBoN0KvjFVoy0WcwWQuWtdn4SG%0APL7D2kbQS3%2Fcu3mm2sGa
A3: AT0000A09016 | B3: CONVERTINVEST All Cap Investment Grade (S) VTA | C3: https://www.rcm.at/cs/rcm/DokumentDownload/CONVERTINVEST%20All-Cap%20Convertibles%20Fund?dokument&enc=2cdJN80HkWFFTDkOtRJ0D%2FLRua0pWB%2BXt1xmoPP7SicMYyXYMglT6o4Tdp0cANdI0LNYm6obe5fi%0A%2FosVDveIYqrlyb3ILise | D3: https://www.rcm.at/cs/rcm/DokumentDownload/CONVERTINVEST%20All-Cap%20Convertibles%20Fund?dokument&enc=2cdJN80HkWFFTDkOtRJ0D%2FLRua0pWB%2BXt1xmoPP7SicMYyXYMglT6o4Tdp0cANdI0LNYm6obe5fi%0A%2FosVDveIYpfQH5wD1mFkYcL25lQMm00h71SQK9bIhg%3D%3D | E3: https://www.rcm.at/cs/rcm/DokumentDownload/CONVERTINVEST%20All-Cap%20Convertibles%20Fund?dokument&enc=2cdJN80HkWFScNSGtZEvaQ6nM6b4fUJCIDp%2Fsf11%2FoNOfO%2FmA1%2F23sMc0JzmVOJC2ARpFPZqQ%2Fqm%0A5kiwMKoehQ%3D%3D | F3: https://www.rcm.at/cs/rcm/DokumentDownload/CONVERTINVEST%20All-Cap%20Convertibles%20Fund?dokument&enc=2cdJN80HkWGmoK7teCwcRkVsaQ%2FgIiB5OnmJbV2UowngPOrQkNCBoFIggsnXHeypcwWQuWtdn4SG%0APL7D2kbQS3%2Fcu3mm2sGa
A4: AT0000A0KR10 | B4: Dachfonds Südtirol (R) VTA | C4: https://www.rcm.at/cs/rcm/DokumentDownload/Dachfonds%20S%C3%BCdtirol?dokument&enc=2cdJN80HkWFFTDkOtRJ0D%2FLRua0pWB%2BXFfhB4POrwVs8xcNnHADHdTYdHdwz4LiRr150G4MYk8Rp%0Asy8vwjd31Iq%2FP2nFTwpC | D4: https://www.rcm.at/cs/rcm/DokumentDownload/Dachfonds%20S%C3%BCdtirol?dokument&enc=2cdJN80HkWFFTDkOtRJ0D%2FLRua0pWB%2BXFfhB4POrwVs8xcNnHADHdTYdHdwz4LiRr150G4MYk8Rp%0Asy8vwjd31GSbQI%2B%2BtKM42ARpFPZqQ%2FrqnueNUj1wQA%3D%3D | E4: https://www.rcm.at/cs/rcm/DokumentDownload/Dachfonds%20S%C3%BCdtirol?dokument&enc=2cdJN80HkWFScNSGtZEvaQ6nM6b4fUJCFVTSgfGMbfHQxC2wk%2FlOV871MerzVPWVZfRHWd%2FQrauI%0AUSnzgIiHwA%3D%3D | F4: https://www.rcm.at/cs/rcm/DokumentDownload/Dachfonds%20S%C3%BCdtirol?dokument&enc=2cdJN80HkWGmoK7teCwcRkVsaQ%2FgIiB5%2FWKcM0UQwiCm1e2ZfYJ9bbOV7xPLLL7lv30SfWItaapa%0AX6MkFsA7uQ%3D%3D
A5: AT0000A1AD33 | B5: Dachfonds Südtirol (S) A | C5: https://www.rcm.at/cs/rcm/DokumentDownload/Dachfonds%20S%C3%BCdtirol?dokument&enc=2cdJN80HkWFFTDkOtRJ0D%2FLRua0pWB%2BXFfhB4POrwVs8xcNnHADHdTYdHdwz4LiR%2FdiunN2gbx9p%0Asy8vwjd31Iq%2FP2nFTwpC | D5: https://www.rcm.at/cs/rcm/DokumentDownload/Dachfonds%20S%C3%BCdtirol?dokument&enc=2cdJN80HkWFFTDkOtRJ0D%2FLRua0pWB%2BXFfhB4POrwVs8xcNnHADHdTYdHdwz4LiR%2FdiunN2gbx9p%0Asy8vwjd31GSbQI%2B%2BtKM42ARpFPZqQ%2FrqnueNUj1wQA%3D%3D | E5: https://www.rcm.at/cs/rcm/DokumentDownload/Dachfonds%20S%C3%BCdtirol?dokument&enc=2cdJN80HkWFScNSGtZEvaQ6nM6b4fUJCFVTSgfGMbfHQxC2wk%2FlOV871MerzVPWVZfRHWd%2FQrauI%0AUSnzgIiHwA%3D%3D | F5: https://www.rcm.at/cs/rcm/DokumentDownload/Dachfonds%20S%C3%BCdtirol?dokument&enc=2cdJN80HkWGmoK7teCwcRkVsaQ%2FgIiB5%2FWKcM0UQwiCm1e2ZfYJ9bYp3eI%2ByWObsv30SfWItaapa%0AX6MkFsA7uQ%3D%3D
A6: AT0000A0LHU0 | B6: Raiffeisen-Global-Strategic-Opportunities (S) VTA | C6: https://www.rcm.at/cs/rcm/DokumentDownload/Raiffeisen-Global-Strategic-Opportunities?dokument&enc=2cdJN80HkWFFTDkOtRJ0D%2FLRua0pWB%2BXX%2FqDufNB0KY8xcNnHADHdTYdHdwz4LiR%2FdiunN2gbx9p%0Asy8vwjd31Iq%2FP2nFTwpC | D6: https://www.rcm.at/cs/rcm/DokumentDownload/Raiffeisen-Global-Strategic-Opportunities?dokument&enc=2cdJN80HkWFFTDkOtRJ0D%2FLRua0pWB%2BXX%2FqDufNB0KY8xcNnHADHdTYdHdwz4LiR%2FdiunN2gbx9p%0Asy8vwjd31GagI6YfdSrz | E6: https://www.rcm.at/cs/rcm/DokumentDownload/Raiffeisen-Global-Strategic-Opportunities?dokument&enc=2cdJN80HkWFScNSGtZEvaQ6nM6b4fUJCoNv7%2F8QXYGdk6WMhDHyMSoZsBOWj42zKxlnhJVtUSa8%3D | F6: https://www.rcm.at/cs/rcm/DokumentDownload/Raiffeisen-Global-Strategic-Opportunities?dokument&enc=2cdJN80HkWGmoK7teCwcRkVsaQ%2FgIiB5nlSEAUjH5Dym1e2ZfYJ9bYp3eI%2ByWObsv30SfWItaapa%0AX6MkFsA7uQ%3D%3D
A7: AT0000712575 | B7: Raiffeisen-Active-Aktien (R) VTA | C7: https://www.rcm.at/cs/rcm/DokumentDownload/Raiffeisen-Active-Aktien?dokument&enc=2cdJN80HkWFFTDkOtRJ0D%2FLRua0pWB%2BXs2Vgy3KkXWOty7eqtA5DjjYdHdwz4LiRr150G4MYk8Rp%0Asy8vwjd31Iq%2FP2nFTwpC | D7: https://www.rcm.at/cs/rcm/DokumentDownload/Raiffeisen-Active-Aktien?dokument&enc=2cdJN80HkWFFTDkOtRJ0D%2FLRua0pWB%2BXs2Vgy3KkXWOty7eqtA5DjjYdHdwz4LiRr150G4MYk8Rp%0Asy8vwjd31GSbQI%2B%2BtKM42ARpFPZqQ%2FrqnueNUj1wQA%3D%3D | E7: https://www.rcm.at/cs/rcm/DokumentDownload/Raiffeisen-Active-Aktien?dokument&enc=2cdJN80HkWFScNSGtZEvaQ6nM6b4fUJCHS1N3Jexbn7QxC2wk%2FlOV8ZZ4SVbVEmv | F7: https://www.rcm.at/cs/rcm/DokumentDownload/Raiffeisen-Active-Aktien?dokument&enc=2cdJN80HkWGmoK7teCwcRkVsaQ%2FgIiB5mE8ogQ09EJOm1e2ZfYJ9bbOV7xPLLL7lv30SfWItaapa%0AX6MkFsA7uQ%3D%3D
A8: AT0000A0H0S9 | B8: Raiffeisen-Active-Commodities (R) VTA | C8: https://www.rcm.at/cs/rcm/DokumentDownload/Raiffeisen-Active-Commodities?dokument&enc=2cdJN80HkWFFTDkOtRJ0D%2FLRua0pWB%2BXoP3ogfC1nMg8xcNnHADHdTYdHdwz4LiRr150G4MYk8Rp%0Asy8vwjd31Iq%2FP2nFTwpC | D8: https://www.rcm.at/cs/rcm/DokumentDownload/Raiffeisen-Active-Commodities?dokument&enc=2cdJN80HkWFFTDkOtRJ0D%2FLRua0pWB%2BXoP3ogfC1nMg8xcNnHADHdTYdHdwz4LiRr150G4MYk8Rp%0Asy8vwjd31GSbQI%2B%2BtKM42ARpFPZqQ%2Frp0lCKdR4eVQ%3D%3D | E8: https://www.rcm.at/cs/rcm/DokumentDownload/Raiffeisen-Active-Commodities?dokument&enc=2cdJN80HkWFScNSGtZEvaQ6nM6b4fUJCvyS2l99h30JVbAKS3NKAb8ZZ4SVbVEmv | F8: https://www.rcm.at/cs/rcm/DokumentDownload/Raiffeisen-Active-Commodities?dokument&enc=2cdJN80HkWGmoK7teCwcRkVsaQ%2FgIiB5nIjRVfhJJIqm1e2ZfYJ9bbOV7xPLLL7lv30SfWItaapa%0AX6MkFsA7uQ%3D%3D
A9: AT0000745872 | B9: Raiffeisen-Asia-Opportunities-ESG-Aktien (R) VTA | C9: https://www.rcm.at/cs/rcm/DokumentDownload/Raiffeisen-Asia-Opportunities-ESG-Aktien?dokument&enc=2cdJN80HkWFFTDkOtRJ0D%2FLRua0pWB%2BXZUyh7rX1OWY8xcNnHADHdTYdHdwz4LiRr150G4MYk8Rp%0Asy8vwjd31Iq%2FP2nFTwpC | D9: https://www.rcm.at/cs/rcm/DokumentDownload/Raiffeisen-Asia-Opportunities-ESG-Aktien?dokument&enc=2cdJN80HkWFFTDkOtRJ0D%2FLRua0pWB%2BXZUyh7rX1OWY8xcNnHADHdTYdHdwz4LiRr150G4MYk8Rp%0Asy8vwjd31GSbQI%2B%2BtKM42ARpFPZqQ%2FrqnueNUj1wQA%3D%3D | E9: https://www.rcm.at/cs/rcm/DokumentDownload/Raiffeisen-Asia-Opportunities-ESG-Aktien?dokument&enc=2cdJN80HkWFScNSGtZEvaQ6nM6b4fUJCxOADqVhy%2B1vQxC2wk%2FlOV8ZZ4SVbVEmv | F9: https://www.rcm.at/cs/rcm/DokumentDownload/Raiffeisen-Asia-Opportunities-ESG-Aktien?dokument&enc=2cdJN80HkWGmoK7teCwcRkVsaQ%2FgIiB5wVJ7e1SmQi2m1e2ZfYJ9bbOV7xPLLL7lv30SfWItaapa%0AX6MkFsA7uQ%3D%3D
A10: AT0000636758 | B10: Raiffeisen-EmergingMarkets-ESG-Transformation-Rent (R) VTA | C10: https://www.rcm.at/cs/rcm/DokumentDownload/Raiffeisen-EmergingMarkets-Rent?dokument&enc=2cdJN80HkWFFTDkOtRJ0D%2FLRua0pWB%2BXSqiyl8ePEYM8xcNnHADHdTYdHdwz4LiRr150G4MYk8Rp%0Asy8vwjd31Iq%2FP2nFTwpC | D10: https://www.rcm.at/cs/rcm/DokumentDownload/Raiffeisen-EmergingMarkets-Rent?dokument&enc=2cdJN80HkWFFTDkOtRJ0D%2FLRua0pWB%2BXSqiyl8ePEYM8xcNnHADHdTYdHdwz4LiRr150G4MYk8Rp%0Asy8vwjd31GSbQI%2B%2BtKM42ARpFPZqQ%2FrqnueNUj1wQA%3D%3D | E10: https://www.rcm.at/cs/rcm/DokumentDownload/Raiffeisen-EmergingMarkets-Rent?dokument&enc=2cdJN80HkWFScNSGtZEvaQ6nM6b4fUJCqQid%2BTnxCV9MjgbSFR0eScZZ4SVbVEmv | F10: https://www.rcm.at/cs/rcm/DokumentDownload/Raiffeisen-EmergingMarkets-Rent?dokument&enc=2cdJN80HkWGmoK7teCwcRkVsaQ%2FgIiB50cQK6LhWDxem1e2ZfYJ9bbOV7xPLLL7lv30SfWItaapa%0AX6MkFsA7uQ%3D%3D
A11: AT0000A0PG67 | B11: Raiffeisen-EmergingMarkets-ESG-Transformation-Rent (S) A | C11: https://www.rcm.at/cs/rcm/DokumentDownload/Raiffeisen-EmergingMarkets-Rent?dokument&enc=2cdJN80HkWFFTDkOtRJ0D%2FLRua0pWB%2BXSqiyl8ePEYM8xcNnHADHdTYdHdwz4LiR%2FdiunN2gbx9p%0Asy8vwjd31Iq%2FP2nFTwpC | D11: https://www.rcm.at/cs/rcm/DokumentDownload/Raiffeisen-EmergingMarkets-Rent?dokument&enc=2cdJN80HkWFFTDkOtRJ0D%2FLRua0pWB%2BXSqiyl8ePEYM8xcNnHADHdTYdHdwz4LiR%2FdiunN2gbx9p%0Asy8vwjd31GSbQI%2B%2BtKM42ARpFPZqQ%2FrqnueNUj1wQA%3D%3D | E11: https://www.rcm.at/cs/rcm/DokumentDownload/Raiffeisen-EmergingMarkets-Rent?dokument&enc=2cdJN80HkWFScNSGtZEvaQ6nM6b4fUJCqQid%2BTnxCV9MjgbSFR0eScZZ4SVbVEmv | F11: https://www.rcm.at/cs/rcm/DokumentDownload/Raiffeisen-EmergingMarkets-Rent?dokument&enc=2cdJN80HkWGmoK7teCwcRkVsaQ%2FgIiB50cQK6LhWDxem1e2ZfYJ9bYp3eI%2ByWObsv30SfWItaapa%0AX6MkFsA7uQ%3D%3D
A12: AT0000688684 | B12: Raiffeisen-Energie-Aktien (R) VTA | C12: https://www.rcm.at/cs/rcm/DokumentDownload/Raiffeisen-Energie-Aktien?dokument&enc=2cdJN80HkWFFTDkOtRJ0D%2FLRua0pWB%2BX05l1KPvCFpo8xcNnHADHdTYdHdwz4LiRr150G4MYk8Rp%0Asy8vwjd31Iq%2FP2nFTwpC | D12: https://www.rcm.at/cs/rcm/DokumentDownload/Raiffeisen-Energie-Aktien?dokument&enc=2cdJN80HkWFFTDkOtRJ0D%2FLRua0pWB%2BX05l1KPvCFpo8xcNnHADHdTYdHdwz4LiRr150G4MYk8Rp%0Asy8vwjd31GSbQI%2B%2BtKM42ARpFPZqQ%2FrqnueNUj1wQA%3D%3D | E12: https://www.rcm.at/cs/rcm/DokumentDownload/Raiffeisen-Energie-Aktien?dokument&enc=2cdJN80HkWFScNSGtZEvaQ6nM6b4fUJCqIQnLTKTk8%2BtjEK61EaSQMZZ4SVbVEmv | F12: https://www.rcm.at/cs/rcm/DokumentDownload/Raiffeisen-Energie-Aktien?dokument&enc=2cdJN80HkWGmoK7teCwcRkVsaQ%2FgIiB5FPcB3bavb1ym1e2ZfYJ9bbOV7xPLLL7lv30SfWItaapa%0AX6MkFsA7uQ%3D%3D
A13: AT0000A1JU33 | B13: Raiffeisen Global Income (R) VTA | C13: https://downloads.raiffeisen-capital.com/documents/DbRNcWoV2gaDZN6LsKEO_POainGkC4aQOH2721DiYVsFObQZ3H_3WKyj4096UZvQVMoksSrVfFgR6tsgVy8Zw2GbJlvNCYLO6hn5wduE-PvKxMLWWRI= | D13: https://downloads.raiffeisen-capital.com/documents/DbRNcWoV2gaDZN6LsKEO_POainGkC4aQOH2721DiYVsFObQZ3H_3WKyj4096UZvQVMoksSrVfFgR6tsgWj4Zw2GbJlvNCaCjPHu40Szg8hLHvIA4Xwk= | E13: https://downloads.raiffeisen-capital.com/documents/DL5BYHwi7GymadDpy_9QqLD0_BTeZPvyYSPong22PR1jcPBahUDGYpLg3ktcSYjdDKcD-TpYSXnCKqb9fOJKiWX4CtY= | F13: https://downloads.raiffeisen-capital.com/documents/DbRNcWoV2gaDZN6LsKEO_POainGkC4aQOH2721DiYVsFObQZ3H_3WKyj4096UZvQVNgv1V_2fksT4dZ4AzJLqUyULAK5FMPTKTc_TpckgTv5q3uD-JVM
... A104: AT0000A3QQH1 | B104: Raiffeisen Systematic US Equity (R) VTA | C104: n/a | D104: n/a | E104: https://downloads.raiffeisen-capital.com/documents/DL5BYHwi7GymadDpy_1Vqrj1-gCIO6yhaCnlnzSqIwwKWdJw6zbHXbOn7lNLFY7bT9YH-R2YR23kPEgcX630Ldf3NrH7VYuX | F104: https://downloads.raiffeisen-capital.com/documents/DbRNcWoV2gaDZN6LsKEO_POainGkC4aQOH--2VjjZ09TZuNK1XX6WZW__V4TaqL3T8kW5RjGZlxP68o7cjpR6z28Fi19zAOEpkgg-VE3-WxClNM=

Sheet Stamm
A1: Fonds: ExterneReferenz | B1: Fonds: Name Lang | C1: Tranche: ISIN | D1: Tranche: ID | E1: Tranche: LINS_INS_ID_FND | F1: Tranche: V3Nummer | G1: Tranche: Instrument 1 akt Name lang | H1: Tranche: Deutsche WPKNR | I1: Tranche: Ticker | J1: Tranche: Tranchentyp | K1: Tranche: Tranchentyp Name DE | L1: Tranche: Ertragstyp | M1: Tranche: Verwaltungsgebühr | N1: Tranche: Ausschüttungsintervall | O1: Ausschüttungstag ID | P1: Valorennummer ID | Q1: Währung ISOCODE_NEU | R1: Auflagedatum NAME | S1: Emittent NAME | T1: Depotbank NAME | U1: Konformität ID | V1: OeNB ID ID | W1: GJ von ID | X1: GJ bis ID | Y1: Mindestveranlagung ID | Z1: Zielgruppe ID | AA1: Advisory ID | AB1: Fondstyp ID | AC1: Fondsverantwortung NAME | AD1: Anlagekategorie NAME | AE1: Dachfonds-Kennzeichen ID | AF1: AIF/OGAW UCITS_AIF | AG1: AIF/OGAW NAME | AH1: LEI Code ID | AI1: BAFIN GZ ID | AJ1: Bewertung (t+) ID | AK1: BM in Medien ID | AL1: Behaltedauer Anlagehorizont_ohne_Text | AM1: Fremdfonds Durchrechnung (J/N) ID | AN1: Artikel 6/8/9 NAME | AO1: Ausgabeaufschlag ID | AP1: Assetklasse 1 NAME | AQ1: Assetklasse 2 NAME | AR1: Assetklasse 3 NAME
A2: 3329 | B2: C 11 | C2: AT0000721402 | D2: 391808 | E2: 35302604 | F2: 353026 | G2: C 11 A | H2: A0J4QW | J2: A | K2: Ausschüttung | M2: 0.35 | O2: 15.12. | P2: 1586544 | Q2: EUR | R2: 37068 | S2: Raiffeisen Kapitalanlage GmbH | T2: Raiffeisen Bank International AG | U2: BI33Z7.99999.SL.040 | V2: 8190925 | W2: 01.10. | X2: 30.09. | Z2: S | AA2: N | AB2: X | AC2: Kathrein | AD2: Gemischter Fonds mit Aktienanteil bis 100% | AE2: J | AF2: AIF | AG2: AIF (Spezialfonds §163 iVm §166f InvFG) | AJ2: t+2 | AK2: J | AL2: 8 | AM2: N | AN2: Artikel 6 | AO2: 0 | AP2: Sonstige Strategien | AQ2: Mischfonds | AR2: Mischfonds
A3: 3223 | B3: CONVERTINVEST All Cap Investment Grade | C3: AT0000A0RFU1 | D3: 72233508 | E3: 320342404 | F3: 3203424 | G3: CONVERTINVEST All Cap Investment Grade (I) T | H3: A1JHVR | I3: CSPACIT | J3: T | K3: Thesaurierung | L3: I | O3: 31.05. | P3: 13778965 | Q3: EUR | R3: 40819 | S3: Raiffeisen Kapitalanlage GmbH | T3: Raiffeisen Bank International AG | U3: EFRQ25.99999.SL.040 | V3: 8510580 | W3: 01.03. | X3: 28.02. | Y3: 3000000 | Z3: G | AA3: N | AB3: Z | AC3: IKÖ | AD3: Rentenfonds | AE3: N | AF3: UCITS | AG3: OGAW (PublF §46 iVM §66ff InvFG) | AI3: 70135333 | AJ3: t+1 | AK3: N | AL3: 8 | AM3: N | AN3: Artikel 8 | AO3: 0 | AP3: Sonstige Strategien | AQ3: Wandelanleihen | AR3: Wandelanleihen
A4: 3223 | B4: CONVERTINVEST All Cap Investment Grade | C4: AT0000A0RFV9 | D4: 72233708 | E4: 320342404 | F4: 3203424 | G4: CONVERTINVEST All Cap Investment Grade (I) VTA | H4: A1JEYB | I4: CSACIVA | J4: V | K4: Vollthesaurierung | L4: I | O4: 31.05. | P4: 13779069 | Q4: EUR | R4: 40819 | S4: Raiffeisen Kapitalanlage GmbH | T4: Raiffeisen Bank International AG | U4: EFRQ25.99999.SL.040 | V4: 8510580 | W4: 01.03. | X4: 28.02. | Y4: 3000000 | Z4: G | AA4: N | AB4: Z | AC4: IKÖ | AD4: Rentenfonds | AE4: N | AF4: UCITS | AG4: OGAW (PublF §46 iVM §66ff InvFG) | AI4: 70135333 | AJ4: t+1 | AK4: N | AL4: 8 | AM4: N | AN4: Artikel 8 | AO4: 0 | AP4: Sonstige Strategien | AQ4: Wandelanleihen | AR4: Wandelanleihen
A5: 3223 | B5: CONVERTINVEST All Cap Investment Grade | C5: AT0000A21LL5 | D5: 94870708 | E5: 320342404 | F5: 3203424 | G5: CONVERTINVEST All Cap Investment Grade (R) VTA | H5: A2JNM2 | I5: COACVTA | J5: V | K5: Vollthesaurierung | L5: R | O5: 31.05. | Q5: EUR | R5: 43283 | S5: Raiffeisen Kapitalanlage GmbH | T5: Raiffeisen Bank International AG | U5: EFRQ25.99999.SL.040 | V5: 8510580 | W5: 01.03. | X5: 28.02. | Z5: P | AA5: N | AB5: Z | AC5: IKÖ | AD5: Rentenfonds | AE5: N | AF5: UCITS | AG5: OGAW (PublF §46 iVM §66ff InvFG) | AI5: 70135333 | AJ5: t+1 | AK5: N | AL5: 8 | AM5: N | AN5: Artikel 8 | AO5: 0 | AP5: Sonstige Strategien | AQ5: Wandelanleihen | AR5: Wandelanleihen
A6: 3223 | B6: CONVERTINVEST All Cap Investment Grade | C6: AT0000A08Y62 | D6: 59794108 | E6: 320342404 | F6: 3203424 | G6: CONVERTINVEST All Cap Investment Grade (S) A | H6: A0NFRL | J6: A | K6: Ausschüttung | L6: S | O6: 31.05. | P6: 3844846 | Q6: EUR | R6: 39524 | S6: Raiffeisen Kapitalanlage GmbH | T6: Raiffeisen Bank International AG | U6: EFRQ25.99999.SL.040 | V6: 8510580 | W6: 01.03. | X6: 28.02. | Z6: P | AA6: N | AB6: Z | AC6: IKÖ | AD6: Rentenfonds | AE6: N | AF6: UCITS | AG6: OGAW (PublF §46 iVM §66ff InvFG) | AI6: 70135333 | AJ6: t+1 | AK6: N | AL6: 8 | AM6: N | AN6: Artikel 8 | AO6: 0 | AP6: Sonstige Strategien | AQ6: Wandelanleihen | AR6: Wandelanleihen
A7: 3223 | B7: CONVERTINVEST All Cap Investment Grade | C7: AT0000A09008 | D7: 59794208 | E7: 320342404 | F7: 3203424 | G7: CONVERTINVEST All Cap Investment Grade (S) T | H7: A0NGQB | I7: CSPCACT | J7: T | K7: Thesaurierung | L7: S | O7: 31.05. | P7: 3868403 | Q7: EUR | R7: 39524 | S7: Raiffeisen Kapitalanlage GmbH | T7: Raiffeisen Bank International AG | U7: EFRQ25.99999.SL.040 | V7: 8510580 | W7: 01.03. | X7: 28.02. | Z7: P | AA7: N | AB7: Z | AC7: IKÖ | AD7: Rentenfonds | AE7: N | AF7: UCITS | AG7: OGAW (PublF §46 iVM §66ff InvFG) | AI7: 70135333 | AJ7: t+1 | AK7: N | AL7: 8 | AM7: N | AN7: Artikel 8 | AO7: 0 | AP7: Sonstige Strategien | AQ7: Wandelanleihen | AR7: Wandelanleihen
A8: 3223 | B8: CONVERTINVEST All Cap Investment Grade | C8: AT0000A09016 | D8: 59794308 | E8: 320342404 | F8: 3203424 | G8: CONVERTINVEST All Cap Investment Grade (S) VTA | H8: A0NGRK | I8: CSPCACV | J8: V | K8: Vollthesaurierung | L8: S | O8: 31.05. | P8: 3868420 | Q8: EUR | R8: 39524 | S8: Raiffeisen Kapitalanlage GmbH | T8: Raiffeisen Bank International AG | U8: EFRQ25.99999.SL.040 | V8: 8510580 | W8: 01.03. | X8: 28.02. | Z8: P | AA8: N | AB8: Z | AC8: IKÖ | AD8: Rentenfonds | AE8: N | AF8: UCITS | AG8: OGAW (PublF §46 iVM §66ff InvFG) | AI8: 70135333 | AJ8: t+1 | AK8: N | AL8: 8 | AM8: N | AN8: Artikel 8 | AO8: 0 | AP8: Sonstige Strategien | AQ8: Wandelanleihen | AR8: Wandelanleihen
A9: 3223 | B9: CONVERTINVEST All Cap Investment Grade | C9: AT0000A1W442 | D9: 89404208 | E9: 320342404 | F9: 3203424 | G9: CONVERTINVEST All Cap Investment Grade (SZ) A | H9: A2DRME | J9: A | K9: Ausschüttung | L9: SZ | O9: 31.05. | P9: 36743291 | Q9: EUR | R9: 42887 | S9: Raiffeisen Kapitalanlage GmbH | T9: Raiffeisen Bank International AG | U9: EFRQ25.99999.SL.040 | V9: 8510580 | W9: 01.03. | X9: 28.02. | Y9: 3000000 | Z9: P | AA9: N | AB9: Z | AC9: IKÖ | AD9: Rentenfonds | AE9: N | AF9: UCITS | AG9: OGAW (PublF §46 iVM §66ff InvFG) | AI9: 70135333 | AJ9: t+1 | AK9: N | AL9: 8 | AM9: N | AN9: Artikel 8 | AO9: 0 | AP9: Sonstige Strategien | AQ9: Wandelanleihen | AR9: Wandelanleihen
A10: 3223 | B10: CONVERTINVEST All Cap Investment Grade | C10: AT0000A1W434 | D10: 89404308 | E10: 320342404 | F10: 3203424 | G10: CONVERTINVEST All Cap Investment Grade (SZ) T | H10: A2DRMG | J10: T | K10: Thesaurierung | L10: SZ | O10: 31.05. | P10: 36742744 | Q10: EUR | R10: 42887 | S10: Raiffeisen Kapitalanlage GmbH | T10: Raiffeisen Bank International AG | U10: EFRQ25.99999.SL.040 | V10: 8510580 | W10: 01.03. | X10: 28.02. | Y10: 3000000 | Z10: P | AA10: N | AB10: Z | AC10: IKÖ | AD10: Rentenfonds | AE10: N | AF10: UCITS | AG10: OGAW (PublF §46 iVM §66ff InvFG) | AI10: 70135333 | AJ10: t+1 | AK10: N | AL10: 8 | AM10: N | AN10: Artikel 8 | AO10: 0 | AP10: Sonstige Strategien | AQ10: Wandelanleihen | AR10: Wandelanleihen
A11: 343 | B11: Dachfonds Südtirol | C11: AT0000707096 | D11: 401108 | E11: 34304 | F11: 343 | G11: Dachfonds Südtirol (I) VTA | H11: A0MTW6 | I11: DACSUDT | J11: V | K11: Vollthesaurierung | L11: I | M11: 0.4 | O11: 15.12. | P11: 1763408 | Q11: EUR | R11: 37034 | S11: Raiffeisen Kapitalanlage GmbH | T11: Raiffeisen Bank International AG | U11: ZMHC36.99999.SL.040 | V11: 7886799 | W11: 01.10. | X11: 30.09. | Y11: 500000 | Z11: G | AA11: N | AB11: D | AC11: Italien | AD11: Gemischter Fonds mit Aktienanteil bis zu 30% | AE11: J | AF11: UCITS | AG11: OGAW (PublF §46 iVM §66ff InvFG) | AJ11: t+2 | AK11: N | AL11: 5 | AM11: J | AN11: Artikel 6 | AO11: 0 | AP11: Sonstige Strategien | AQ11: Mischfonds | AR11: Mischfonds Sicherheit
A12: 343 | B12: Dachfonds Südtirol | C12: AT0000A0KR10 | D12: 68839908 | E12: 34304 | F12: 343 | G12: Dachfonds Südtirol (R) VTA | H12: A1C5KB | I12: DACSRVA | J12: V | K12: Vollthesaurierung | L12: R | M12: 1.2 | O12: 15.12. | P12: 11804465 | Q12: EUR | R12: 40546 | S12: Raiffeisen Kapitalanlage GmbH | T12: Raiffeisen Bank International AG | U12: ZMHC36.99999.SL.040 | V12: 7886799 | W12: 01.10. | X12: 30.09. | Z12: P | AA12: N | AB12: D | AC12: Italien | AD12: Gemischter Fonds mit Aktienanteil bis zu 30% | AE12: J | AF12: UCITS | AG12: OGAW (PublF §46 iVM §66ff InvFG) | AJ12: t+2 | AK12: N | AL12: 5 | AM12: J | AN12: Artikel 6 | AO12: 0 | AP12: Sonstige Strategien | AQ12: Mischfonds | AR12: Mischfonds Sicherheit
A13: 343 | B13: Dachfonds Südtirol | C13: AT0000A1AD33 | D13: 83008308 | E13: 34304 | F13: 343 | G13: Dachfonds Südtirol (S) A | H13: A12BN1 | I13: DACSSVA | J13: A | K13: Ausschüttung | L13: S | M13: 1.75 | O13: 15.12. | P13: 25902610 | Q13: EUR | R13: 42037 | S13: Raiffeisen Kapitalanlage GmbH | T13: Raiffeisen Bank International AG | U13: ZMHC36.99999.SL.040 | V13: 7886799 | W13: 01.10. | X13: 30.09. | Z13: P | AA13: N | AB13: D | AC13: Italien | AD13: Gemischter Fonds mit Aktienanteil bis zu 30% | AE13: J | AF13: UCITS | AG13: OGAW (PublF §46 iVM §66ff InvFG) | AJ13: t+2 | AK13: N | AL13: 5 | AM13: J | AN13: Artikel 6 | AO13: 0 | AP13: Sonstige Strategien | AQ13: Mischfonds | AR13: Mischfonds Sicherheit
A14: 3610 | B14: DoBo 22 | C14: AT0000A3NKK5 | D14: 147693708 | E14: 361004 | F14: 3610 | G14: DoBo 22 A | H14: A41FVS | I14: RDOB22A | J14: A | K14: Ausschüttung | M14: 0.25 | O14: 01.03. | Q14: EUR | R14: 45936 | S14: Raiffeisen Kapitalanlage GmbH | T14: Raiffeisen Bank International AG | U14: DUQY6T.99999.SL.040 | V14: 32649070 | W14: 01.01. | X14: 31.12. | Z14: S | AA14: N | AB14: X | AC14: IKÖ | AD14: Gemischter Fonds mit Aktienanteil bis 100% | AE14: J | AF14: AIF | AG14: AIF (Spezialfonds §163 iVm §166f InvFG) | AJ14: t+2 | AK14: N | AL14: 5 | AM14: N | AN14: Artikel 6 | AO14: 0 | AP14: Sonstige Strategien | AQ14: Mischfonds | AR14: Mischfonds Sicherheit
A15: 3594 | B15: DT Spezialfonds | C15: AT0000A3J0F1 | D15: 143950608 | E15: 359404 | F15: 3594 | G15: DT Spezialfonds VTI | H15: A411TZ | I15: RFDTSFV | J15: W | K15: Vollthesaurierer Österreich | O15: 15.03. | Q15: EUR | R15: 45719 | S15: Raiffeisen Kapitalanlage GmbH | T15: Raiffeisen Bank International AG | U15: 5CGW6G.99999.SL.040 | V15: 31945767 | W15: 01.01. | X15: 31.12. | Z15: S | AA15: N | AB15: X | AC15: IKÖ | AD15: Rentenfonds | AE15: J | AF15: AIF | AG15: AIF (Spezialfonds §163 iVM InvFG) | AJ15: t+2 | AK15: J | AL15: 5 | AM15: N | AN15: Artikel 6 | AO15: 0 | AP15: Anleihen | AQ15: Anleihen Developed Markets | AR15: Anleihen Non Euro/Global
A16: 3118 | B16: FlexProtection Active Fund | C16: AT0000A0D5E2 | D16: 64053708 | E16: 311804 | F16: 3118 | G16: FlexProtection Active Fund VTI | H16: A0RGYS | J16: W | K16: Vollthesaurierer Österreich | M16: 1.7 | O16: 01.02. | P16: 10006915 | Q16: EUR | R16: 39933 | S16: Raiffeisen Kapitalanlage GmbH | T16: Raiffeisen Bank International AG | U16: GMPXWL.00039.ME.040 | V16: 9126821 | W16: 01.12. | X16: 30.11. | Z16: G | AA16: N | AB16: D | AC16: IKÖ | AD16: Gemischter Fonds mit Aktienanteil bis 100% | AE16: J | AF16: AIF | AG16: AIF (PublF §166f InvFG) | AJ16: t+2 | AK16: N | AL16: 10 | AM16: N | AN16: Artikel 6 | AO16: 0 | AP16: Sonstige Strategien | AQ16: Mischfonds | AR16: Mischfonds
A17: 3208 | B17: FlexProtection Secure 11 | C17: AT0000A0PD52 | D17: 70593008 | E17: 319631504 | F17: 3196315 | G17: FlexProtection Secure 11 VTI | H17: A1H9UW | J17: W | K17: Vollthesaurierer Österreich | M17: 0.8 | O17: 31.05. | P17: 12880765 | Q17: EUR | R17: 40662 | S17: Raiffeisen Kapitalanlage GmbH | T17: Raiffeisen Bank International AG | U17: GMPXWL.00050.ME.040 | V17: 10774220 | W17: 01.04. | X17: 31.03. | Z17: S | AA17: N | AB17: X | AC17: IKÖ | AD17: Rentenfonds | AE17: N | AF17: AIF | AG17: AIF (Spezialfonds §163 iVm §166f InvFG) | AJ17: t+2 | AK17: N | AM17: N | AN17: Artikel 6 | AO17: 5 | AP17: Anleihen | AQ17: Anleihen Developed Markets | AR17: Anleihen Euro/Europa
A18: 3241 | B18: FlexProtection Secure 12 | C18: AT0000A0UBW0 | D18: 73701908 | E18: 321562204 | F18: 3215622 | G18: FlexProtection Secure 12 VTI | H18: A1JSW8 | J18: W | K18: Vollthesaurierer Österreich | M18: 0.8 | O18: 31.05. | P18: 18031331 | Q18: EUR | R18: 41029 | S18: Raiffeisen Kapitalanlage GmbH | T18: Raiffeisen Bank International AG | U18: GMPXWL.00051.ME.040 | V18: 11327464 | W18: 01.04. | X18: 31.03. | Z18: S | AA18: N | AB18: X | AC18: IKÖ | AD18: Rentenfonds | AE18: N | AF18: AIF | AG18: AIF (Spezialfonds §163 iVm §166f InvFG) | AJ18: t+2 | AK18: N | AM18: N | AN18: Artikel 6 | AO18: 5 | AP18: Anleihen | AQ18: Anleihen Developed Markets | AR18: Anleihen Euro/Europa
A19: 3260 | B19: FlexProtection Secure 13 | C19: AT0000A10AA4 | D19: 77889808 | E19: 323446304 | F19: 3234463 | G19: FlexProtection Secure 13 VTI | H19: A1T9NF | J19: W | K19: Vollthesaurierer Österreich | M19: 0.8 | O19: 31.05. | P19: 21247255 | Q19: EUR | R19: 41394 | S19: Raiffeisen Kapitalanlage GmbH | T19: Raiffeisen Bank International AG | U19: GMPXWL.00052.ME.040 | V19: 16577434 | W19: 01.04. | X19: 31.03. | Z19: S | AA19: N | AB19: X | AC19: IKÖ | AD19: Rentenfonds | AE19: N | AF19: AIF | AG19: AIF (Spezialfonds §163 iVm §166f InvFG) | AJ19: t+2 | AK19: N | AM19: N | AN19: Artikel 6 | AO19: 5 | AP19: Anleihen | AQ19: Anleihen Developed Markets | AR19: Anleihen Euro/Europa
A20: 3279 | B20: FlexProtection Secure 14 | C20: AT0000A16QK6 | D20: 80615208 | E20: 324044404 | F20: 3240444 | G20: FlexProtection Secure 14 VTI | H20: A1XDYW | J20: W | K20: Vollthesaurierer Österreich | M20: 0.8 | O20: 31.05. | P20: 23959866 | Q20: EUR | R20: 41759 | S20: Raiffeisen Kapitalanlage GmbH | T20: Raiffeisen Bank International AG | U20: GMPXWL.00140.ME.040 | V20: 17396000 | W20: 01.04. | X20: 31.03. | Z20: S | AA20: N | AB20: X | AC20: IKÖ | AD20: Rentenfonds | AE20: N | AF20: AIF | AG20: AIF (Spezialfonds §163 iVm §166f InvFG) | AJ20: t+2 | AK20: N | AM20: N | AN20: Artikel 6 | AO20: 5 | AP20: Anleihen | AQ20: Anleihen Developed Markets | AR20: Anleihen Euro/Europa
A21: 3366 | B21: FlexProtection Secure 15 | C21: AT0000A1DJQ9 | D21: 83339908 | E21: 324858204 | F21: 3248582 | G21: FlexProtection Secure 15 VTI | H21: A14P78 | J21: W | K21: Vollthesaurierer Österreich | M21: 0.8 | O21: 01.06. | P21: 27459056 | Q21: EUR | R21: 42124 | S21: Raiffeisen Kapitalanlage GmbH | T21: Raiffeisen Bank International AG | U21: GMPXWL.00150.ME.040 | V21: 18285180 | W21: 01.04. | X21: 31.03. | Z21: S | AA21: N | AB21: X | AC21: IKÖ | AD21: Rentenfonds | AE21: N | AF21: AIF | AG21: AIF (Spezialfonds §163 iVM InvFG) | AJ21: t+2 | AK21: N | AM21: N | AN21: Artikel 6 | AO21: 5 | AP21: Anleihen | AQ21: Anleihen Developed Markets | AR21: Anleihen Euro/Europa
A22: 3391 | B22: FlexProtection Secure 16 | C22: AT0000A1KT82 | D22: 85099608 | E22: 1000144204 | F22: 10001442 | G22: FlexProtection Secure 16 VTI | H22: A2AGF6 | I22: FPS16 | J22: W | K22: Vollthesaurierer Österreich | M22: 0.8 | O22: 01.06. | P22: 32053875 | Q22: EUR | R22: 42487 | S22: Raiffeisen Kapitalanlage GmbH | T22: Raiffeisen Bank International AG | U22: GJAS87.99999.SL.040 | V22: 19260288 | W22: 01.04. | X22: 31.03. | Z22: S | AA22: N | AB22: X | AC22: IKÖ | AD22: Rentenfonds | AE22: N | AF22: AIF | AG22: AIF (Spezialfonds §163 iVM InvFG) | AJ22: t+2 | AK22: N | AM22: N | AN22: Artikel 6 | AO22: 5 | AP22: Anleihen | AQ22: Anleihen Developed Markets | AR22: Anleihen Euro/Europa
A23: 3414 | B23: FlexProtection Secure 17 | C23: AT0000A1VGU9 | D23: 88994908 | E23: 1000352204 | F23: 10003522 | G23: FlexProtection Secure 17 VTI | H23: A2DP59 | J23: W | K23: Vollthesaurierer Österreich | M23: 0.8 | O23: 01.06. | P23: 36452232 | Q23: EUR | R23: 42851 | S23: Raiffeisen Kapitalanlage GmbH | T23: Raiffeisen Bank International AG | U23: 3FFQIT.99999.SL.040 | V23: 20279078 | W23: 01.04. | X23: 31.03. | Z23: S | AA23: N | AB23: X | AC23: IKÖ | AD23: Rentenfonds | AE23: N | AF23: AIF | AG23: AIF (Spezialfonds §163 iVM InvFG) | AJ23: t+2 | AK23: N | AM23: N | AN23: Artikel 6 | AO23: 5 | AP23: Anleihen | AQ23: Anleihen Developed Markets | AR23: Anleihen Euro/Europa
A24: 3451 | B24: FlexProtection Secure 18 | C24: AT0000A272H2 | D24: 107321208 | E24: 1000606304 | F24: 10006063 | G24: FlexProtection Secure 18 VTI | H24: A2PF4G | I24: FPS18VTI | J24: W | K24: Vollthesaurierer Österreich | M24: 0.8 | O24: 01.06. | Q24: EUR | R24: 43585 | S24: Raiffeisen Kapitalanlage GmbH | T24: Raiffeisen Bank International AG | U24: Z4PGL8.99999.SL.040 | V24: 23924284 | W24: 01.04. | X24: 31.03. | Z24: S | AA24: N | AB24: X | AC24: IKÖ | AD24: Rentenfonds | AE24: N | AF24: AIF | AG24: AIF (Spezialfonds §163 iVM InvFG) | AJ24: t+2 | AK24: N | AM24: N | AN24: Artikel 6 | AO24: 5 | AP24: Anleihen | AQ24: Anleihen Developed Markets | AR24: Anleihen Euro/Europa
A25: 3465 | B25: FlexProtection Secure 19 | C25: AT0000A2CXC0 | D25: 114065208 | E25: 1000756304 | F25: 10007563 | G25: FlexProtection Secure 19 VTI | J25: W | K25: Vollthesaurierer Österreich | M25: 0.8 | O25: 01.06. | Q25: EUR | R25: 43951 | S25: Raiffeisen Kapitalanlage GmbH | T25: Raiffeisen Bank International AG | U25: GMPXWL.00160.ME.040 | V25: 25139843 | W25: 01.04. | X25: 31.03. | Z25: S | AA25: N | AB25: X | AC25: IKÖ | AD25: Rentenfonds | AE25: N | AF25: AIF | AG25: AIF (Spezialfonds §163 iVM InvFG) | AJ25: t+2 | AK25: N | AM25: N | AN25: Artikel 6 | AO25: 5 | AP25: Anleihen | AQ25: Anleihen Developed Markets | AR25: Anleihen Euro/Europa
A26: 3480 | B26: FlexProtection Secure 20 | C26: AT0000A2PTQ0 | D26: 121200908 | E26: 1000932404 | F26: 10009324 | G26: FlexProtection Secure 20 VTI | H26: A2QQYW | I26: FPS20 | J26: W | K26: Vollthesaurierer Österreich | M26: 0.8 | O26: 01.06. | Q26: EUR | R26: 44316 | S26: Raiffeisen Kapitalanlage GmbH | T26: Raiffeisen Bank International AG | U26: NMLILN.99999.SL.040 | V26: 26562375 | W26: 01.04. | X26: 31.03. | Z26: S | AA26: N | AB26: X | AC26: IKÖ | AD26: Rentenfonds | AE26: N | AF26: AIF | AG26: AIF (Spezialfonds §163 iVM InvFG) | AJ26: t+2 | AK26: N | AM26: N | AN26: Artikel 6 | AO26: 5 | AP26: Anleihen | AQ26: Anleihen Developed Markets | AR26: Anleihen Euro/Europa
A27: 3501 | B27: FlexProtection Secure 21 | C27: AT0000A2W9G4 | D27: 127304208 | E27: 350104 | F27: 3501 | G27: FlexProtection Secure 21 VTI | H27: A3DGZR | I27: FPS21VT | J27: W | K27: Vollthesaurierer Österreich | M27: 0.8 | O27: 01.06. | Q27: EUR | R27: 44680 | S27: Raiffeisen Kapitalanlage GmbH | T27: Raiffeisen Bank International AG | U27: ZQIHNW.99999.SL.040 | V27: 28282221 | W27: 01.04. | X27: 31.03. | Z27: S | AA27: N | AB27: X | AC27: IKÖ | AD27: Rentenfonds | AE27: N | AF27: AIF | AG27: AIF (Spezialfonds §163 iVM InvFG) | AJ27: t+2 | AK27: N | AM27: N | AN27: Artikel 6 | AO27: 0 | AP27: Anleihen | AQ27: Anleihen Developed Markets | AR27: Anleihen Euro/Europa
A28: 3511 | B28: FlexProtection Secure 22 | C28: AT0000A32YN1 | D28: 133162308 | E28: 351104 | F28: 3511 | G28: FlexProtection Secure 22 VTI | H28: A3D77Y | I28: FPS22VT | J28: W | K28: Vollthesaurierer Österreich | M28: 0.8 | O28: 01.06. | Q28: EUR | R28: 45044 | S28: Raiffeisen Kapitalanlage GmbH | T28: Raiffeisen Bank International AG | U28: TAX2YK.99999.SL.040 | V28: 29664241 | W28: 01.04. | X28: 31.03. | Z28: S | AA28: N | AB28: X | AC28: IKÖ | AD28: Rentenfonds | AE28: N | AF28: AIF | AG28: AIF (Spezialfonds §163 iVM InvFG) | AJ28: t+2 | AK28: N | AM28: N | AN28: Artikel 6 | AO28: 0 | AP28: Anleihen | AQ28: Anleihen Developed Markets | AR28: Anleihen Euro/Europa
A29: 3569 | B29: FlexProtection Secure 23 | C29: AT0000A3AY02 | D29: 139172308 | E29: 356904 | F29: 3569 | G29: FlexProtection Secure 23 VTI | H29: A404Y1 | I29: FPS23VT | J29: W | K29: Vollthesaurierer Österreich | M29: 0.8 | O29: 01.06. | Q29: EUR | R29: 45412 | S29: Raiffeisen Kapitalanlage GmbH | T29: Raiffeisen Bank International AG | U29: MXHUWG.99999.SL.040 | V29: 30806771 | W29: 01.04. | X29: 31.03. | Z29: S | AA29: N | AB29: X | AC29: IKÖ | AD29: Rentenfonds | AE29: N | AF29: AIF | AG29: AIF (Spezialfonds §163 iVM InvFG) | AJ29: t+2 | AK29: N | AM29: N | AN29: Artikel 6 | AO29: 0 | AP29: Anleihen | AQ29: Anleihen Developed Markets | AR29: Anleihen Euro/Europa
A30: 3597 | B30: FlexProtection Secure 24 | C30: AT0000A3J0U0 | D30: 144718208 | E30: 359704 | F30: 3597 | G30: FlexProtection Secure 24 VTI | H30: A4122M | I30: FPS24VT | J30: W | K30: Vollthesaurierer Österreich | M30: 0.8 | O30: 01.06. | Q30: EUR | R30: 45777 | S30: Raiffeisen Kapitalanlage GmbH | T30: Raiffeisen Bank International AG | U30: FLASKC.99999.SL.040 | V30: 31971156 | W30: 01.04. | X30: 31.03. | Z30: S | AA30: N | AB30: X | AC30: IKÖ | AD30: Rentenfonds | AE30: N | AF30: AIF | AG30: AIF (Spezialfonds §163 iVM InvFG) | AJ30: t+2 | AK30: N | AM30: N | AN30: Artikel 6 | AO30: 0 | AP30: Anleihen | AQ30: Anleihen Developed Markets | AR30: Anleihen Euro/Europa
A31: 3621 | B31: FlexProtection Secure 25 | C31: AT0000A3S3Y5 | D31: 150792708 | E31: 362104 | F31: 3621 | G31: FlexProtection Secure 25 VTI | H31: A423Y3 | I31: FPS25VT | J31: W | K31: Vollthesaurierer Österreich | M31: 0.8 | O31: 01.06. | Q31: EUR | R31: 46142 | S31: Raiffeisen Kapitalanlage GmbH | T31: Raiffeisen Bank International AG | U31: B9DUT2.99999.SL.040 | V31: 33428115 | W31: 01.04. | X31: 31.03. | Z31: S | AA31: N | AB31: X | AC31: IKÖ | AD31: Rentenfonds | AE31: N | AF31: AIF | AG31: AIF (Spezialfonds §163 iVM InvFG) | AJ31: t+2 | AK31: N | AM31: N | AN31: Artikel 6 | AO31: 0 | AP31: Anleihen | AQ31: Anleihen Developed Markets | AR31: Anleihen Euro/Europa
A32: 3567 | B32: FPF | C32: AT0000A0DDX0 | D32: 63968708 | E32: 1001404804 | F32: 10014048 | G32: FPF VTI | H32: A0RGTN | I32: ALLKFPF | J32: W | K32: Vollthesaurierer Österreich/Ausland | O32: 01.03. | Q32: EUR | R32: 39917 | S32: Raiffeisen Kapitalanlage GmbH | T32: Raiffeisen Bank International AG | U32: 2UQXCZ.99999.SL.040 | V32: 9206701 | W32: 01.01. | X32: 31.12. | Z32: S | AA32: N | AB32: X | AC32: IKÖ | AD32: Gemischter Fonds mit Aktienanteil bis zu 70% | AE32: J | AF32: AIF | AG32: AIF (Spezialfonds §163 iVm §166f InvFG) | AJ32: t+2 | AK32: N | AM32: N | AN32: Artikel 6 | AO32: 0 | AP32: Sonstige Strategien | AQ32: Mischfonds | AR32: Mischfonds
A33: 3568 | B33: FWR25 | C33: AT0000A3AWH3 | D33: 138696208 | E33: 356804 | F33: 3568 | G33: FWR25 VTA | H33: A404VM | I33: RFWR25V | J33: V | K33: Vollthesaurierung | M33: 1.444 | O33: 01.04. | Q33: EUR | R33: 45516 | S33: Raiffeisen Kapitalanlage GmbH | T33: Raiffeisen Bank International AG | U33: 9WXPLE.99999.SL.040 | V33: 30803470 | W33: 01.02. | X33: 31.01. | Z33: G | AA33: N | AB33: D | AC33: CEE | AD33: Gemischter Fonds mit Aktienanteil bis zu 30% | AE33: J | AF33: UCITS | AG33: OGAW (PublF §46 iVM §66ff InvFG) | AJ33: t+2 | AK33: N | AL33: 8 | AM33: N | AN33: Artikel 6 | AO33: 0 | AP33: Sonstige Strategien | AQ33: Mischfonds | AR33: Mischfonds
A34: 3527 | B34: Index-Selection-Equity | C34: AT0000A381E8 | D34: 137359308 | E34: 352704 | F34: 3527 | G34: Index-Selection-Equity (I) A | H34: A3EYA9 | I34: RIXSEIA | J34: A | K34: Ausschüttung | L34: I | M34: 0.3 | O34: 01.02. | Q34: EUR | R34: 45302 | S34: Raiffeisen Kapitalanlage GmbH | T34: Raiffeisen Bank International AG | U34: XUMF84.99999.SL.040 | V34: 30433576 | W34: 01.12. | X34: 30.11. | Y34: 500000 | Z34: G | AA34: N | AB34: D | AC34: Retail | AD34: Aktienfonds 100% | AE34: J | AF34: UCITS | AG34: OGAW (PublF §46 iVM §66ff InvFG) | AJ34: t+1 | AK34: J | AL34: 10 | AM34: N | AN34: Artikel 6 | AO34: 0 | AP34: Aktien | AQ34: Aktien Non Euro/Global | AR34: Aktien Non Euro/Global
A35: 3527 | B35: Index-Selection-Equity | C35: AT0000A381D0 | D35: 137359208 | E35: 352704 | F35: 3527 | G35: Index-Selection-Equity (I) T | H35: A3EYAK | I35: RIXSEIT | J35: T | K35: Thesaurierung | L35: I | M35: 0.3 | O35: 01.02. | Q35: EUR | R35: 45302 | S35: Raiffeisen Kapitalanlage GmbH | T35: Raiffeisen Bank International AG | U35: XUMF84.99999.SL.040 | V35: 30433576 | W35: 01.12. | X35: 30.11. | Y35: 500000 | Z35: G | AA35: N | AB35: D | AC35: Retail | AD35: Aktienfonds 100% | AE35: J | AF35: UCITS | AG35: OGAW (PublF §46 iVM §66ff InvFG) | AJ35: t+1 | AK35: J | AL35: 10 | AM35: N | AN35: Artikel 6 | AO35: 0 | AP35: Aktien | AQ35: Aktien Non Euro/Global | AR35: Aktien Non Euro/Global
A36: 3527 | B36: Index-Selection-Equity | C36: AT0000A381B4 | D36: 137359108 | E36: 352704 | F36: 3527 | G36: Index-Selection-Equity (R) A | H36: A3EYAH | I36: RIXSERA | J36: A | K36: Ausschüttung | L36: R | M36: 0.6 | O36: 01.02. | Q36: EUR | R36: 45302 | S36: Raiffeisen Kapitalanlage GmbH | T36: Raiffeisen Bank International AG | U36: XUMF84.99999.SL.040 | V36: 30433576 | W36: 01.12. | X36: 30.11. | Z36: P | AA36: N | AB36: D | AC36: Retail | AD36: Aktienfonds 100% | AE36: J | AF36: UCITS | AG36: OGAW (PublF §46 iVM §66ff InvFG) | AJ36: t+1 | AK36: J | AL36: 10 | AM36: N | AN36: Artikel 6 | AO36: 0 | AP36: Aktien | AQ36: Aktien Non Euro/Global | AR36: Aktien Non Euro/Global
A37: 3527 | B37: Index-Selection-Equity | C37: AT0000A381C2 | D37: 137359008 | E37: 352704 | F37: 3527 | G37: Index-Selection-Equity (R) T | H37: A3EYAJ | I37: RIXSERT | J37: T | K37: Thesaurierung | L37: R | M37: 0.6 | O37: 01.02. | Q37: EUR | R37: 45302 | S37: Raiffeisen Kapitalanlage GmbH | T37: Raiffeisen Bank International AG | U37: XUMF84.99999.SL.040 | V37: 30433576 | W37: 01.12. | X37: 30.11. | Z37: P | AA37: N | AB37: D | AC37: Retail | AD37: Aktienfonds 100% | AE37: J | AF37: UCITS | AG37: OGAW (PublF §46 iVM §66ff InvFG) | AJ37: t+1 | AK37: J | AL37: 10 | AM37: N | AN37: Artikel 6 | AO37: 0 | AP37: Aktien | AQ37: Aktien Non Euro/Global | AR37: Aktien Non Euro/Global
A38: 3527 | B38: Index-Selection-Equity | C38: AT0000A3B1H3 | D38: 139271808 | E38: 352704 | F38: 3527 | G38: Index-Selection-Equity (R) VTA | H38: A407HG | J38: V | K38: Vollthesaurierung | L38: R | M38: 0.6 | O38: 01.02. | Q38: EUR | R38: 45414 | S38: Raiffeisen Kapitalanlage GmbH | T38: Raiffeisen Bank International AG | U38: XUMF84.99999.SL.040 | V38: 30433576 | W38: 01.12. | X38: 30.11. | Z38: P | AA38: N | AB38: D | AC38: Retail | AD38: Aktienfonds 100% | AE38: J | AF38: UCITS | AG38: OGAW (PublF §46 iVM §66ff InvFG) | AJ38: t+1 | AK38: J | AL38: 10 | AM38: N | AN38: Artikel 6 | AO38: 0 | AP38: Aktien | AQ38: Aktien Non Euro/Global | AR38: Aktien Non Euro/Global
A39: 3527 | B39: Index-Selection-Equity | C39: AT0000A381G3 | D39: 137359508 | E39: 352704 | F39: 3527 | G39: Index-Selection-Equity (RZ) A | H39: A3EYAG | I39: RIXSEZA | J39: A | K39: Ausschüttung | L39: RZ | M39: 0.3 | O39: 01.02. | Q39: EUR | R39: 45302 | S39: Raiffeisen Kapitalanlage GmbH | T39: Raiffeisen Bank International AG | U39: XUMF84.99999.SL.040 | V39: 30433576 | W39: 01.12. | X39: 30.11. | Z39: P | AA39: N | AB39: D | AC39: Retail | AD39: Aktienfonds 100% | AE39: J | AF39: UCITS | AG39: OGAW (PublF §46 iVM §66ff InvFG) | AJ39: t+1 | AK39: J | AL39: 10 | AM39: N | AN39: Artikel 6 | AO39: 0 | AP39: Aktien | AQ39: Aktien Non Euro/Global | AR39: Aktien Non Euro/Global
A40: 3527 | B40: Index-Selection-Equity | C40: AT0000A381F5 | D40: 137359408 | E40: 352704 | F40: 3527 | G40: Index-Selection-Equity (RZ) T | H40: A3EYAF | I40: RIXSEZT | J40: T | K40: Thesaurierung | L40: RZ | M40: 0.3 | O40: 01.02. | Q40: EUR | R40: 45302 | S40: Raiffeisen Kapitalanlage GmbH | T40: Raiffeisen Bank International AG | U40: XUMF84.99999.SL.040 | V40: 30433576 | W40: 01.12. | X40: 30.11. | Z40: P | AA40: N | AB40: D | AC40: Retail | AD40: Aktienfonds 100% | AE40: J | AF40: UCITS | AG40: OGAW (PublF §46 iVM §66ff InvFG) | AJ40: t+1 | AK40: J | AL40: 10 | AM40: N | AN40: Artikel 6 | AO40: 0 | AP40: Aktien | AQ40: Aktien Non Euro/Global | AR40: Aktien Non Euro/Global
...

Sheet reg
A1: XentisNr. / Fondsname Externe Referenz original | B1: XentisNr. / Fondsname Instrument 1 akt Name lang | C1: aufgelöst am | D1: ISIN / Tranchenname ISIN | E1: ISIN / Tranchenname Instrument 1 akt Name lang | F1: BAFIN GZ ID | G1: lokaler Name | H1: Vertriebsland / ISO-Code NAME | I1: Vertriebsland / ISO-Code Iso Code | J1: Fondsverantwortung | K1: Registrierung | L1: Deregistrierung | M1: Emittent (KAG) | N1: in lista? | Q1: in lista?
A2: 3474 | B2: CONVERTINVEST A.R.S. Fund | C2: 45946 | D2: AT0000A2KUE5 | E2: CONVERTINVEST A.R.S. Fund (R) A | G2: CONVERTINVEST A.R.S. Fund (R) A | H2: Italia | I2: IT | J2: IKÖ | K2: 44186 | L2: 45946 | M2: Raiffeisen Kapitalanlage GmbH | N2: =_xlfn.XLOOKUP(_Visualisierung_1_1778072460684[[#This Row],[ISIN / Tranchenname ISIN]],'doc legali'!A:A,'doc legali'!B:B,"no",0) -> no | Q2: =_xlfn.XLOOKUP(_Visualisierung_1_1778072460684[[#This Row],[ISIN / Tranchenname ISIN]],'doc legali'!D:D,'doc legali'!E:E,"no",0) -> no
A3: 3474 | B3: CONVERTINVEST A.R.S. Fund | C3: 45946 | D3: AT0000A2KUH8 | E3: CONVERTINVEST A.R.S. Fund (S) VTA | G3: CONVERTINVEST A.R.S. Fund (S) VTA | H3: Italia | I3: IT | J3: IKÖ | K3: 44186 | L3: 45946 | M3: Raiffeisen Kapitalanlage GmbH | N3: =_xlfn.XLOOKUP(_Visualisierung_1_1778072460684[[#This Row],[ISIN / Tranchenname ISIN]],'doc legali'!A:A,'doc legali'!B:B,"no",0) -> no | Q3: =_xlfn.XLOOKUP(_Visualisierung_1_1778072460684[[#This Row],[ISIN / Tranchenname ISIN]],'doc legali'!D:D,'doc legali'!E:E,"no",0) -> no
A4: 3223 | B4: CONVERTINVEST All Cap Investment Grade | D4: AT0000A0RFV9 | E4: CONVERTINVEST All Cap Investment Grade (I) VTA | F4: 70135333 | G4: CONVERTINVEST All Cap Investment Grade (I) VTA | H4: Italia | I4: IT | J4: IKÖ | K4: 42284 | M4: Raiffeisen Kapitalanlage GmbH | N4: =_xlfn.XLOOKUP(_Visualisierung_1_1778072460684[[#This Row],[ISIN / Tranchenname ISIN]],'doc legali'!A:A,'doc legali'!B:B,"no",0) -> no | Q4: =_xlfn.XLOOKUP(_Visualisierung_1_1778072460684[[#This Row],[ISIN / Tranchenname ISIN]],'doc legali'!D:D,'doc legali'!E:E,"no",0) -> no
A5: 3223 | B5: CONVERTINVEST All Cap Investment Grade | D5: AT0000A21LL5 | E5: CONVERTINVEST All Cap Investment Grade (R) VTA | F5: 70135333 | G5: CONVERTINVEST All Cap Investment Grade (R) VTA | H5: Italia | I5: IT | J5: IKÖ | K5: 43283 | M5: Raiffeisen Kapitalanlage GmbH | N5: =_xlfn.XLOOKUP(_Visualisierung_1_1778072460684[[#This Row],[ISIN / Tranchenname ISIN]],'doc legali'!A:A,'doc legali'!B:B,"no",0) -> CONVERTINVEST All Cap Investment Grade (R) VTA | Q5: =_xlfn.XLOOKUP(_Visualisierung_1_1778072460684[[#This Row],[ISIN / Tranchenname ISIN]],'doc legali'!D:D,'doc legali'!E:E,"no",0) -> no
A6: 3223 | B6: CONVERTINVEST All Cap Investment Grade | D6: AT0000A09016 | E6: CONVERTINVEST All Cap Investment Grade (S) VTA | F6: 70135333 | G6: CONVERTINVEST All Cap Investment Grade (S) VTA | H6: Italia | I6: IT | J6: IKÖ | K6: 42284 | M6: Raiffeisen Kapitalanlage GmbH | N6: =_xlfn.XLOOKUP(_Visualisierung_1_1778072460684[[#This Row],[ISIN / Tranchenname ISIN]],'doc legali'!A:A,'doc legali'!B:B,"no",0) -> CONVERTINVEST All Cap Investment Grade (S) VTA | Q6: =_xlfn.XLOOKUP(_Visualisierung_1_1778072460684[[#This Row],[ISIN / Tranchenname ISIN]],'doc legali'!D:D,'doc legali'!E:E,"no",0) -> no
A7: 3223 | B7: CONVERTINVEST All Cap Investment Grade | D7: AT0000A0RFT3 | E7: CONVERTINVEST All-Cap Convertibles Fund (I) A | F7: 70135333 | G7: CONVERTINVEST All-Cap Convertibles Fund (I) A | H7: Italia | I7: IT | J7: IKÖ | K7: 43049 | L7: 45504 | M7: Raiffeisen Kapitalanlage GmbH | N7: =_xlfn.XLOOKUP(_Visualisierung_1_1778072460684[[#This Row],[ISIN / Tranchenname ISIN]],'doc legali'!A:A,'doc legali'!B:B,"no",0) -> no | Q7: =_xlfn.XLOOKUP(_Visualisierung_1_1778072460684[[#This Row],[ISIN / Tranchenname ISIN]],'doc legali'!D:D,'doc legali'!E:E,"no",0) -> no
A8: 343 | B8: Dachfonds Südtirol | D8: AT0000707096 | E8: Dachfonds Südtirol (I) VTA | G8: Dachfonds Südtirol (I) VTA | H8: Italia | I8: IT | J8: Italien | K8: 42809 | M8: Raiffeisen Kapitalanlage GmbH | N8: =_xlfn.XLOOKUP(_Visualisierung_1_1778072460684[[#This Row],[ISIN / Tranchenname ISIN]],'doc legali'!A:A,'doc legali'!B:B,"no",0) -> no | Q8: =_xlfn.XLOOKUP(_Visualisierung_1_1778072460684[[#This Row],[ISIN / Tranchenname ISIN]],'doc legali'!D:D,'doc legali'!E:E,"no",0) -> no
A9: 343 | B9: Dachfonds Südtirol | D9: AT0000A0KR10 | E9: Dachfonds Südtirol (R) VTA | G9: Dachfonds Südtirol (R) VTA | H9: Italia | I9: IT | J9: Italien | K9: 40595 | M9: Raiffeisen Kapitalanlage GmbH | N9: =_xlfn.XLOOKUP(_Visualisierung_1_1778072460684[[#This Row],[ISIN / Tranchenname ISIN]],'doc legali'!A:A,'doc legali'!B:B,"no",0) -> Dachfonds Südtirol (R) VTA | Q9: =_xlfn.XLOOKUP(_Visualisierung_1_1778072460684[[#This Row],[ISIN / Tranchenname ISIN]],'doc legali'!D:D,'doc legali'!E:E,"no",0) -> no
A10: 343 | B10: Dachfonds Südtirol | D10: AT0000A1AD33 | E10: Dachfonds Südtirol (S) A | G10: Dachfonds Südtirol (S) A | H10: Italia | I10: IT | J10: Italien | K10: 42037 | M10: Raiffeisen Kapitalanlage GmbH | N10: =_xlfn.XLOOKUP(_Visualisierung_1_1778072460684[[#This Row],[ISIN / Tranchenname ISIN]],'doc legali'!A:A,'doc legali'!B:B,"no",0) -> Dachfonds Südtirol (S) A | Q10: =_xlfn.XLOOKUP(_Visualisierung_1_1778072460684[[#This Row],[ISIN / Tranchenname ISIN]],'doc legali'!D:D,'doc legali'!E:E,"no",0) -> no
A11: 691 | B11: Fondo Garantito Raiffeisen TopSelection | C11: 41584 | D11: AT0000A014J4 | E11: Fondo Garantito Raiffeisen TopSelection | G11: Fondo Garantito Raiffeisen TopSelection | H11: Italia | I11: IT | J11: Retail | K11: 39028 | L11: 41584 | M11: Raiffeisen Kapitalanlage GmbH | N11: =_xlfn.XLOOKUP(_Visualisierung_1_1778072460684[[#This Row],[ISIN / Tranchenname ISIN]],'doc legali'!A:A,'doc legali'!B:B,"no",0) -> no | Q11: =_xlfn.XLOOKUP(_Visualisierung_1_1778072460684[[#This Row],[ISIN / Tranchenname ISIN]],'doc legali'!D:D,'doc legali'!E:E,"no",0) -> no
A12: 691 | B12: Fondo Garantito Raiffeisen TopSelection | C12: 41584 | D12: AT0000A014G0 | E12: Fondo Garantito Raiffeisen TopSelection | G12: Fondo Garantito Raiffeisen TopSelection | H12: Italia | I12: IT | J12: Retail | K12: 39028 | L12: 41584 | M12: Raiffeisen Kapitalanlage GmbH | N12: =_xlfn.XLOOKUP(_Visualisierung_1_1778072460684[[#This Row],[ISIN / Tranchenname ISIN]],'doc legali'!A:A,'doc legali'!B:B,"no",0) -> no | Q12: =_xlfn.XLOOKUP(_Visualisierung_1_1778072460684[[#This Row],[ISIN / Tranchenname ISIN]],'doc legali'!D:D,'doc legali'!E:E,"no",0) -> no
A13: 3527 | B13: Index-Selection-Equity | D13: AT0000A3B1H3 | E13: Index-Selection-Equity (R) VTA | G13: Index-Selection-Equity (R) VTA | H13: Italia | I13: IT | J13: Retail | K13: 45449 | M13: Raiffeisen Kapitalanlage GmbH | N13: =_xlfn.XLOOKUP(_Visualisierung_1_1778072460684[[#This Row],[ISIN / Tranchenname ISIN]],'doc legali'!A:A,'doc legali'!B:B,"no",0) -> Index-Selection-Equity (R) VTA | Q13: =_xlfn.XLOOKUP(_Visualisierung_1_1778072460684[[#This Row],[ISIN / Tranchenname ISIN]],'doc legali'!D:D,'doc legali'!E:E,"no",0) -> no
A14: 137 | B14: R 305 - Non-Euro Equities | C14: 43531 | D14: AT0000607288 | E14: R 305 - Non-Euro Equities VTA | G14: Raiffeisen 305 - Non-Euro Equities VTA | H14: Italia | I14: IT | J14: Kundenbetreuung | K14: 36892 | L14: 43531 | M14: Raiffeisen Kapitalanlage GmbH | N14: =_xlfn.XLOOKUP(_Visualisierung_1_1778072460684[[#This Row],[ISIN / Tranchenname ISIN]],'doc legali'!A:A,'doc legali'!B:B,"no",0) -> no | Q14: =_xlfn.XLOOKUP(_Visualisierung_1_1778072460684[[#This Row],[ISIN / Tranchenname ISIN]],'doc legali'!D:D,'doc legali'!E:E,"no",0) -> no
A15: 160 | B15: R 308 - Euro-Equities | C15: 44180 | D15: AT0000607296 | E15: R 308 - Euro-Equities | H15: Italia | I15: IT | J15: Kundenbetreuung | K15: 36892 | L15: 40633 | M15: Raiffeisen Kapitalanlage GmbH | N15: =_xlfn.XLOOKUP(_Visualisierung_1_1778072460684[[#This Row],[ISIN / Tranchenname ISIN]],'doc legali'!A:A,'doc legali'!B:B,"no",0) -> no | Q15: =_xlfn.XLOOKUP(_Visualisierung_1_1778072460684[[#This Row],[ISIN / Tranchenname ISIN]],'doc legali'!D:D,'doc legali'!E:E,"no",0) -> no
A16: 160 | B16: R 308 - Euro-Equities | C16: 44180 | D16: AT0000789276 | E16: R 308 - Euro-Equities A | G16: Raiffeisen 308 - Euro Equities A | H16: Italia | I16: IT | J16: Kundenbetreuung | K16: 36892 | L16: 44180 | M16: Raiffeisen Kapitalanlage GmbH | N16: =_xlfn.XLOOKUP(_Visualisierung_1_1778072460684[[#This Row],[ISIN / Tranchenname ISIN]],'doc legali'!A:A,'doc legali'!B:B,"no",0) -> no | Q16: =_xlfn.XLOOKUP(_Visualisierung_1_1778072460684[[#This Row],[ISIN / Tranchenname ISIN]],'doc legali'!D:D,'doc legali'!E:E,"no",0) -> no
A17: 396 | B17: R 311 | C17: 41059 | D17: AT0000617147 | E17: R 311 | H17: Italia | I17: IT | J17: RIFA | K17: 36892 | L17: 40998 | M17: Raiffeisen Kapitalanlage GmbH | N17: =_xlfn.XLOOKUP(_Visualisierung_1_1778072460684[[#This Row],[ISIN / Tranchenname ISIN]],'doc legali'!A:A,'doc legali'!B:B,"no",0) -> no | Q17: =_xlfn.XLOOKUP(_Visualisierung_1_1778072460684[[#This Row],[ISIN / Tranchenname ISIN]],'doc legali'!D:D,'doc legali'!E:E,"no",0) -> no
A18: 3377 | B18: R 355 | C18: 43229 | D18: AT0000A1G379 | E18: R 355 VTA | G18: R 355 VTA | H18: Italia | I18: IT | J18: Italien | K18: 42271 | L18: 43229 | M18: Raiffeisen Kapitalanlage GmbH | N18: =_xlfn.XLOOKUP(_Visualisierung_1_1778072460684[[#This Row],[ISIN / Tranchenname ISIN]],'doc legali'!A:A,'doc legali'!B:B,"no",0) -> no | Q18: =_xlfn.XLOOKUP(_Visualisierung_1_1778072460684[[#This Row],[ISIN / Tranchenname ISIN]],'doc legali'!D:D,'doc legali'!E:E,"no",0) -> no
A19: 155 | B19: R 88-Fonds | C19: 41555 | D19: AT0000654892 | E19: R 88-Fonds VTA | H19: Italia | I19: IT | J19: RIFA Ö | K19: 37923 | L19: 41555 | M19: Raiffeisen Kapitalanlage GmbH | N19: =_xlfn.XLOOKUP(_Visualisierung_1_1778072460684[[#This Row],[ISIN / Tranchenname ISIN]],'doc legali'!A:A,'doc legali'!B:B,"no",0) -> no | Q19: =_xlfn.XLOOKUP(_Visualisierung_1_1778072460684[[#This Row],[ISIN / Tranchenname ISIN]],'doc legali'!D:D,'doc legali'!E:E,"no",0) -> no
A20: 3384 | B20: R-Südtirol | D20: AT0000A1HG17 | E20: R-Südtirol A | G20: R-Südtirol A | H20: Italia | I20: IT | J20: Italien | K20: 42353 | M20: Raiffeisen Kapitalanlage GmbH | N20: =_xlfn.XLOOKUP(_Visualisierung_1_1778072460684[[#This Row],[ISIN / Tranchenname ISIN]],'doc legali'!A:A,'doc legali'!B:B,"no",0) -> no | Q20: =_xlfn.XLOOKUP(_Visualisierung_1_1778072460684[[#This Row],[ISIN / Tranchenname ISIN]],'doc legali'!D:D,'doc legali'!E:E,"no",0) -> no
A21: 342 | B21: Raiffeisen 304 - Euro Corporates - ESG | D21: AT0000607270 | E21: Raiffeisen 304 - Euro Corporates - ESG (I) VTA | F21: 70141979 | G21: Raiffeisen 304 - ESG - Euro Corporates (I) VTA | H21: Italia | I21: IT | J21: Kundenbetreuung | K21: 36892 | M21: Raiffeisen Kapitalanlage GmbH | N21: =_xlfn.XLOOKUP(_Visualisierung_1_1778072460684[[#This Row],[ISIN / Tranchenname ISIN]],'doc legali'!A:A,'doc legali'!B:B,"no",0) -> no | Q21: =_xlfn.XLOOKUP(_Visualisierung_1_1778072460684[[#This Row],[ISIN / Tranchenname ISIN]],'doc legali'!D:D,'doc legali'!E:E,"no",0) -> no
A22: 323 | B22: Raiffeisen 310 - CEE Bonds | C22: 40016 | D22: AT0000607338 | E22: Raiffeisen 310 - CEE Bonds | H22: Italia | I22: IT | J22: IKÖ-alt | K22: 38384 | L22: 40016 | M22: Raiffeisen Kapitalanlage GmbH | N22: =_xlfn.XLOOKUP(_Visualisierung_1_1778072460684[[#This Row],[ISIN / Tranchenname ISIN]],'doc legali'!A:A,'doc legali'!B:B,"no",0) -> no | Q22: =_xlfn.XLOOKUP(_Visualisierung_1_1778072460684[[#This Row],[ISIN / Tranchenname ISIN]],'doc legali'!D:D,'doc legali'!E:E,"no",0) -> no
A23: 437 | B23: Raiffeisen 313 - Euro Bonds Trend Follower | C23: 43220 | D23: AT0000607304 | E23: Raiffeisen 313 - Euro Bonds Trend Follower VTA | F23: 70142070 | G23: Raiffeisen 313 - Euro Trend Follower VTA | H23: Italia | I23: IT | J23: Kundenbetreuung | K23: 36892 | L23: 43220 | M23: Raiffeisen Kapitalanlage GmbH | N23: =_xlfn.XLOOKUP(_Visualisierung_1_1778072460684[[#This Row],[ISIN / Tranchenname ISIN]],'doc legali'!A:A,'doc legali'!B:B,"no",0) -> no | Q23: =_xlfn.XLOOKUP(_Visualisierung_1_1778072460684[[#This Row],[ISIN / Tranchenname ISIN]],'doc legali'!D:D,'doc legali'!E:E,"no",0) -> no
A24: 447 | B24: Raiffeisen 314 - Euro Inflation Linked - ESG | C24: 46037 | D24: AT0000607312 | E24: Raiffeisen 314 - Euro Inflation Linked - ESG VTA | F24: 70141986 | G24: Raiffeisen 314 - ESG - Euro Inflation Linked VTA | H24: Italia | I24: IT | J24: Kundenbetreuung | K24: 36892 | L24: 46037 | M24: Raiffeisen Kapitalanlage GmbH | N24: =_xlfn.XLOOKUP(_Visualisierung_1_1778072460684[[#This Row],[ISIN / Tranchenname ISIN]],'doc legali'!A:A,'doc legali'!B:B,"no",0) -> no | Q24: =_xlfn.XLOOKUP(_Visualisierung_1_1778072460684[[#This Row],[ISIN / Tranchenname ISIN]],'doc legali'!D:D,'doc legali'!E:E,"no",0) -> no
A25: 658 | B25: Raiffeisen 322 - Euro Alpha Duration | C25: 42033 | D25: AT0000A03G36 | E25: Raiffeisen 322 - Euro Alpha Duration | H25: Italia | I25: IT | J25: RIFA | K25: 39430 | L25: 42033 | M25: Raiffeisen Kapitalanlage GmbH | N25: =_xlfn.XLOOKUP(_Visualisierung_1_1778072460684[[#This Row],[ISIN / Tranchenname ISIN]],'doc legali'!A:A,'doc legali'!B:B,"no",0) -> no | Q25: =_xlfn.XLOOKUP(_Visualisierung_1_1778072460684[[#This Row],[ISIN / Tranchenname ISIN]],'doc legali'!D:D,'doc legali'!E:E,"no",0) -> no
A26: 3084 | B26: Raiffeisen 323 - Euro VA Trend Follower | C26: 40884 | D26: AT0000A0B5M7 | E26: Raiffeisen 323 - Euro VA Trend Follower V | H26: Italia | I26: IT | J26: IKÖ-alt | K26: 40234 | L26: 40884 | M26: Raiffeisen Kapitalanlage GmbH | N26: =_xlfn.XLOOKUP(_Visualisierung_1_1778072460684[[#This Row],[ISIN / Tranchenname ISIN]],'doc legali'!A:A,'doc legali'!B:B,"no",0) -> no | Q26: =_xlfn.XLOOKUP(_Visualisierung_1_1778072460684[[#This Row],[ISIN / Tranchenname ISIN]],'doc legali'!D:D,'doc legali'!E:E,"no",0) -> no
A27: 696 | B27: Raiffeisen 325 - FX Alpha | C27: 39748 | D27: AT0000A039B8 | E27: Raiffeisen 325 - FX Alpha | H27: Italia | I27: IT | J27: IKÖ-alt | K27: 39342 | L27: 39748 | M27: Raiffeisen Kapitalanlage GmbH | N27: =_xlfn.XLOOKUP(_Visualisierung_1_1778072460684[[#This Row],[ISIN / Tranchenname ISIN]],'doc legali'!A:A,'doc legali'!B:B,"no",0) -> no | Q27: =_xlfn.XLOOKUP(_Visualisierung_1_1778072460684[[#This Row],[ISIN / Tranchenname ISIN]],'doc legali'!D:D,'doc legali'!E:E,"no",0) -> no
